BEGIN:VCALENDAR
VERSION:2.0
PRODID:-//Qubein Childrens Museum//NONSGML Event//EN
BEGIN:VEVENT
UID:69ea22384a519@qubeinchildrensmuseum.org
DTSTAMP:20260423T134424Z
DTSTART:20260531T140000
DTEND:20260531T160000
SUMMARY:High Point Ham Radio
DESCRIPTION:
LOCATION:Qubein Children's Museum, 200 Qubein Avenue, High Point NC 27262
END:VEVENT
END:VCALENDAR
