BEGIN:VCALENDAR
VERSION:2.0
PRODID:-//Qubein Childrens Museum//NONSGML Event//EN
BEGIN:VEVENT
UID:69ea21880cc5a@qubeinchildrensmuseum.org
DTSTAMP:20260423T134128Z
DTSTART:20260513T103000
DTEND:20260513T120000
SUMMARY:Ms. Cottontail and Friends
DESCRIPTION:
LOCATION:Qubein Children's Museum, 200 Qubein Avenue, High Point NC 27262
END:VEVENT
END:VCALENDAR
